BEGIN:VCALENDAR
VERSION:2.0
PRODID:-//Marshview Middle School - ECPv6.15.20//NONSGML v1.0//EN
CALSCALE:GREGORIAN
METHOD:PUBLISH
X-ORIGINAL-URL:https://marshview.nbed.ca
X-WR-CALDESC:Events for Marshview Middle School
REFRESH-INTERVAL;VALUE=DURATION:PT1H
X-Robots-Tag:noindex
X-PUBLISHED-TTL:PT1H
BEGIN:VTIMEZONE
TZID:America/Moncton
BEGIN:DAYLIGHT
TZOFFSETFROM:-0400
TZOFFSETTO:-0300
TZNAME:ADT
DTSTART:20230312T060000
END:DAYLIGHT
BEGIN:STANDARD
TZOFFSETFROM:-0300
TZOFFSETTO:-0400
TZNAME:AST
DTSTART:20231105T050000
END:STANDARD
BEGIN:DAYLIGHT
TZOFFSETFROM:-0400
TZOFFSETTO:-0300
TZNAME:ADT
DTSTART:20240310T060000
END:DAYLIGHT
BEGIN:STANDARD
TZOFFSETFROM:-0300
TZOFFSETTO:-0400
TZNAME:AST
DTSTART:20241103T050000
END:STANDARD
BEGIN:DAYLIGHT
TZOFFSETFROM:-0400
TZOFFSETTO:-0300
TZNAME:ADT
DTSTART:20250309T060000
END:DAYLIGHT
BEGIN:STANDARD
TZOFFSETFROM:-0300
TZOFFSETTO:-0400
TZNAME:AST
DTSTART:20251102T050000
END:STANDARD
END:VTIMEZONE
BEGIN:VEVENT
DTSTART;TZID=America/Moncton:20240927T080000
DTEND;TZID=America/Moncton:20240927T170000
DTSTAMP:20260420T060605
CREATED:20240905T124258Z
LAST-MODIFIED:20240905T124258Z
UID:4226-1727424000-1727456400@marshview.nbed.ca
SUMMARY:Orange Shirt Day!!
DESCRIPTION:Students are encouraged to wear an Orange Shirt on this day
URL:https://marshview.nbed.ca/event/orange-shirt-day/
END:VEVENT
BEGIN:VEVENT
DTSTART;TZID=America/Moncton:20240923T080000
DTEND;TZID=America/Moncton:20240927T170000
DTSTAMP:20260420T060605
CREATED:20240905T124121Z
LAST-MODIFIED:20240905T124121Z
UID:4222-1727078400-1727456400@marshview.nbed.ca
SUMMARY:Truth and Reconciliation Week
DESCRIPTION:Truth and Reconciliation Week. Various events and activities held at the school.
URL:https://marshview.nbed.ca/event/truth-and-reconciliation-week/
END:VEVENT
BEGIN:VEVENT
DTSTART;TZID=America/Moncton:20240919T150000
DTEND;TZID=America/Moncton:20240919T160000
DTSTAMP:20260420T060605
CREATED:20240916T122554Z
LAST-MODIFIED:20240916T122554Z
UID:4260-1726758000-1726761600@marshview.nbed.ca
SUMMARY:Soccer Tryouts
DESCRIPTION:soccer tryouts afterschool
URL:https://marshview.nbed.ca/event/soccer-tryouts-2/
END:VEVENT
BEGIN:VEVENT
DTSTART;TZID=America/Moncton:20240918T180000
DTEND;TZID=America/Moncton:20240918T190000
DTSTAMP:20260420T060605
CREATED:20240916T122636Z
LAST-MODIFIED:20240916T122636Z
UID:4262-1726682400-1726686000@marshview.nbed.ca
SUMMARY:Meet the Teacher
DESCRIPTION:Come and Meet the Teachers at Marshview!!!
URL:https://marshview.nbed.ca/event/meet-the-teacher/
END:VEVENT
BEGIN:VEVENT
DTSTART;TZID=America/Moncton:20240917T150000
DTEND;TZID=America/Moncton:20240917T160000
DTSTAMP:20260420T060605
CREATED:20240916T122420Z
LAST-MODIFIED:20240916T122420Z
UID:4258-1726585200-1726588800@marshview.nbed.ca
SUMMARY:Soccer Tryouts
DESCRIPTION:Soccer Tryouts afterschool
URL:https://marshview.nbed.ca/event/soccer-tryouts/
END:VEVENT
END:VCALENDAR