BEGIN:VCALENDAR
VERSION:2.0
PRODID:-//Marshview Middle School - ECPv6.15.20//NONSGML v1.0//EN
CALSCALE:GREGORIAN
METHOD:PUBLISH
X-ORIGINAL-URL:https://marshview.nbed.ca
X-WR-CALDESC:Events for Marshview Middle School
REFRESH-INTERVAL;VALUE=DURATION:PT1H
X-Robots-Tag:noindex
X-PUBLISHED-TTL:PT1H
BEGIN:VTIMEZONE
TZID:America/Moncton
BEGIN:DAYLIGHT
TZOFFSETFROM:-0400
TZOFFSETTO:-0300
TZNAME:ADT
DTSTART:20250309T060000
END:DAYLIGHT
BEGIN:STANDARD
TZOFFSETFROM:-0300
TZOFFSETTO:-0400
TZNAME:AST
DTSTART:20251102T050000
END:STANDARD
BEGIN:DAYLIGHT
TZOFFSETFROM:-0400
TZOFFSETTO:-0300
TZNAME:ADT
DTSTART:20260308T060000
END:DAYLIGHT
BEGIN:STANDARD
TZOFFSETFROM:-0300
TZOFFSETTO:-0400
TZNAME:AST
DTSTART:20261101T050000
END:STANDARD
BEGIN:DAYLIGHT
TZOFFSETFROM:-0400
TZOFFSETTO:-0300
TZNAME:ADT
DTSTART:20270314T060000
END:DAYLIGHT
BEGIN:STANDARD
TZOFFSETFROM:-0300
TZOFFSETTO:-0400
TZNAME:AST
DTSTART:20271107T050000
END:STANDARD
END:VTIMEZONE
BEGIN:VEVENT
DTSTART;TZID=America/Moncton:20260422T080000
DTEND;TZID=America/Moncton:20260422T170000
DTSTAMP:20260420T023655
CREATED:20260318T152551Z
LAST-MODIFIED:20260318T152551Z
UID:4398-1776844800-1776877200@marshview.nbed.ca
SUMMARY:Earth Day!
DESCRIPTION:Students will clean up areas around the school and town for Earth Day!
URL:https://marshview.nbed.ca/event/earth-day/
CATEGORIES:School Calendar
END:VEVENT
BEGIN:VEVENT
DTSTART;TZID=America/Moncton:20260502T080000
DTEND;TZID=America/Moncton:20260506T170000
DTSTAMP:20260420T023655
CREATED:20260318T152751Z
LAST-MODIFIED:20260318T152751Z
UID:4402-1777708800-1778086800@marshview.nbed.ca
SUMMARY:Matilda the Musical
DESCRIPTION:The Musical Matilda will be presented at Convocation Hall
URL:https://marshview.nbed.ca/event/matilda-the-musical/
CATEGORIES:School Calendar
END:VEVENT
BEGIN:VEVENT
DTSTART;TZID=America/Moncton:20260527T080000
DTEND;TZID=America/Moncton:20260527T170000
DTSTAMP:20260420T023655
CREATED:20260318T152645Z
LAST-MODIFIED:20260318T152845Z
UID:4400-1779868800-1779901200@marshview.nbed.ca
SUMMARY:LitCon Presentations
DESCRIPTION:Students will present their LitCon projects
URL:https://marshview.nbed.ca/event/litcon/
CATEGORIES:School Calendar
END:VEVENT
END:VCALENDAR