BEGIN:VCALENDAR
VERSION:2.0
PRODID:-//Marshview Middle School - ECPv6.15.20//NONSGML v1.0//EN
CALSCALE:GREGORIAN
METHOD:PUBLISH
X-WR-CALNAME:Marshview Middle School
X-ORIGINAL-URL:https://marshview.nbed.ca
X-WR-CALDESC:Events for Marshview Middle School
REFRESH-INTERVAL;VALUE=DURATION:PT1H
X-Robots-Tag:noindex
X-PUBLISHED-TTL:PT1H
BEGIN:VTIMEZONE
TZID:America/Moncton
BEGIN:DAYLIGHT
TZOFFSETFROM:-0400
TZOFFSETTO:-0300
TZNAME:ADT
DTSTART:20250309T060000
END:DAYLIGHT
BEGIN:STANDARD
TZOFFSETFROM:-0300
TZOFFSETTO:-0400
TZNAME:AST
DTSTART:20251102T050000
END:STANDARD
BEGIN:DAYLIGHT
TZOFFSETFROM:-0400
TZOFFSETTO:-0300
TZNAME:ADT
DTSTART:20260308T060000
END:DAYLIGHT
BEGIN:STANDARD
TZOFFSETFROM:-0300
TZOFFSETTO:-0400
TZNAME:AST
DTSTART:20261101T050000
END:STANDARD
BEGIN:DAYLIGHT
TZOFFSETFROM:-0400
TZOFFSETTO:-0300
TZNAME:ADT
DTSTART:20270314T060000
END:DAYLIGHT
BEGIN:STANDARD
TZOFFSETFROM:-0300
TZOFFSETTO:-0400
TZNAME:AST
DTSTART:20271107T050000
END:STANDARD
END:VTIMEZONE
BEGIN:VEVENT
DTSTART;TZID=America/Moncton:20260325T080000
DTEND;TZID=America/Moncton:20260325T170000
DTSTAMP:20260420T161429
CREATED:20260318T150815Z
LAST-MODIFIED:20260318T150949Z
UID:4384-1774425600-1774458000@marshview.nbed.ca
SUMMARY:Report Cards Distributed to Students
DESCRIPTION:  \nTerm 2 Report Cards will be issued to students during homeroom at the end of the day.
URL:https://marshview.nbed.ca/event/report-cards-distributed-to-students/
CATEGORIES:School Calendar
END:VEVENT
BEGIN:VEVENT
DTSTART;TZID=America/Moncton:20260401T080000
DTEND;TZID=America/Moncton:20260402T170000
DTSTAMP:20260420T161429
CREATED:20260318T151116Z
LAST-MODIFIED:20260318T151116Z
UID:4387-1775030400-1775149200@marshview.nbed.ca
SUMMARY:Parent Teacher interviews
DESCRIPTION:Parent Teacher Interviews will be held on Wednesday April 1st from 4:30 – 6:30 and on Thursday April 2 from 8:30 – 11:30 by appointment only.
URL:https://marshview.nbed.ca/event/parent-teacher-interviews/
CATEGORIES:School Calendar
END:VEVENT
BEGIN:VEVENT
DTSTART;TZID=America/Moncton:20260403T080000
DTEND;TZID=America/Moncton:20260403T170000
DTSTAMP:20260420T161429
CREATED:20260318T151340Z
LAST-MODIFIED:20260318T151340Z
UID:4392-1775203200-1775235600@marshview.nbed.ca
SUMMARY:Good Friday - no school
DESCRIPTION:No School for Students
URL:https://marshview.nbed.ca/event/good-friday-no-school-2/
CATEGORIES:School Calendar
END:VEVENT
BEGIN:VEVENT
DTSTART;TZID=America/Moncton:20260406T080000
DTEND;TZID=America/Moncton:20260406T170000
DTSTAMP:20260420T161429
CREATED:20260318T151147Z
LAST-MODIFIED:20260318T151231Z
UID:4389-1775462400-1775494800@marshview.nbed.ca
SUMMARY:Easter Monday - no School
DESCRIPTION:No School for Students
URL:https://marshview.nbed.ca/event/good-friday-no-school/
CATEGORIES:School Calendar
END:VEVENT
BEGIN:VEVENT
DTSTART;TZID=America/Moncton:20260413T080000
DTEND;TZID=America/Moncton:20260413T170000
DTSTAMP:20260420T161429
CREATED:20260318T152426Z
LAST-MODIFIED:20260318T152426Z
UID:4394-1776067200-1776099600@marshview.nbed.ca
SUMMARY:Scrabble Day!!
DESCRIPTION:Choose a letter of the alphabet and dress according to a word that begins with that letter!!
URL:https://marshview.nbed.ca/event/scrabble-day/
CATEGORIES:School Calendar
END:VEVENT
BEGIN:VEVENT
DTSTART;TZID=America/Moncton:20260415T080000
DTEND;TZID=America/Moncton:20260415T170000
DTSTAMP:20260420T161429
CREATED:20260318T152515Z
LAST-MODIFIED:20260318T152515Z
UID:4396-1776240000-1776272400@marshview.nbed.ca
SUMMARY:Engage! Showcase
DESCRIPTION:Students present their work from Engage!
URL:https://marshview.nbed.ca/event/engage-showcase/
CATEGORIES:School Calendar
END:VEVENT
BEGIN:VEVENT
DTSTART;TZID=America/Moncton:20260422T080000
DTEND;TZID=America/Moncton:20260422T170000
DTSTAMP:20260420T161429
CREATED:20260318T152551Z
LAST-MODIFIED:20260318T152551Z
UID:4398-1776844800-1776877200@marshview.nbed.ca
SUMMARY:Earth Day!
DESCRIPTION:Students will clean up areas around the school and town for Earth Day!
URL:https://marshview.nbed.ca/event/earth-day/
CATEGORIES:School Calendar
END:VEVENT
BEGIN:VEVENT
DTSTART;TZID=America/Moncton:20260502T080000
DTEND;TZID=America/Moncton:20260506T170000
DTSTAMP:20260420T161429
CREATED:20260318T152751Z
LAST-MODIFIED:20260318T152751Z
UID:4402-1777708800-1778086800@marshview.nbed.ca
SUMMARY:Matilda the Musical
DESCRIPTION:The Musical Matilda will be presented at Convocation Hall
URL:https://marshview.nbed.ca/event/matilda-the-musical/
CATEGORIES:School Calendar
END:VEVENT
BEGIN:VEVENT
DTSTART;TZID=America/Moncton:20260527T080000
DTEND;TZID=America/Moncton:20260527T170000
DTSTAMP:20260420T161429
CREATED:20260318T152645Z
LAST-MODIFIED:20260318T152845Z
UID:4400-1779868800-1779901200@marshview.nbed.ca
SUMMARY:LitCon Presentations
DESCRIPTION:Students will present their LitCon projects
URL:https://marshview.nbed.ca/event/litcon/
CATEGORIES:School Calendar
END:VEVENT
END:VCALENDAR