BEGIN:VCALENDAR
VERSION:2.0
PRODID:-//Marshview Middle School - ECPv6.15.20//NONSGML v1.0//EN
CALSCALE:GREGORIAN
METHOD:PUBLISH
X-WR-CALNAME:Marshview Middle School
X-ORIGINAL-URL:https://marshview.nbed.ca
X-WR-CALDESC:Events for Marshview Middle School
REFRESH-INTERVAL;VALUE=DURATION:PT1H
X-Robots-Tag:noindex
X-PUBLISHED-TTL:PT1H
BEGIN:VTIMEZONE
TZID:America/Moncton
BEGIN:DAYLIGHT
TZOFFSETFROM:-0400
TZOFFSETTO:-0300
TZNAME:ADT
DTSTART:20230312T060000
END:DAYLIGHT
BEGIN:STANDARD
TZOFFSETFROM:-0300
TZOFFSETTO:-0400
TZNAME:AST
DTSTART:20231105T050000
END:STANDARD
BEGIN:DAYLIGHT
TZOFFSETFROM:-0400
TZOFFSETTO:-0300
TZNAME:ADT
DTSTART:20240310T060000
END:DAYLIGHT
BEGIN:STANDARD
TZOFFSETFROM:-0300
TZOFFSETTO:-0400
TZNAME:AST
DTSTART:20241103T050000
END:STANDARD
BEGIN:DAYLIGHT
TZOFFSETFROM:-0400
TZOFFSETTO:-0300
TZNAME:ADT
DTSTART:20250309T060000
END:DAYLIGHT
BEGIN:STANDARD
TZOFFSETFROM:-0300
TZOFFSETTO:-0400
TZNAME:AST
DTSTART:20251102T050000
END:STANDARD
END:VTIMEZONE
BEGIN:VEVENT
DTSTART;TZID=America/Moncton:20241113T080000
DTEND;TZID=America/Moncton:20241113T170000
DTSTAMP:20260420T174740
CREATED:20240905T124810Z
LAST-MODIFIED:20240905T124810Z
UID:4237-1731484800-1731517200@marshview.nbed.ca
SUMMARY:School Picture Retakes
DESCRIPTION:Student Photo Retakes
URL:https://marshview.nbed.ca/event/school-picture-retakes/
END:VEVENT
BEGIN:VEVENT
DTSTART;TZID=America/Moncton:20241107T080000
DTEND;TZID=America/Moncton:20241107T170000
DTSTAMP:20260420T174740
CREATED:20240905T124736Z
LAST-MODIFIED:20240905T124736Z
UID:4235-1730966400-1730998800@marshview.nbed.ca
SUMMARY:Remembrance Day Assembly
DESCRIPTION:This year’s Remembrance Day Assembly beginning at 10:45 a.m.
URL:https://marshview.nbed.ca/event/remembrance-day-assembly/
END:VEVENT
BEGIN:VEVENT
DTSTART;TZID=America/Moncton:20241106T080000
DTEND;TZID=America/Moncton:20241106T170000
DTSTAMP:20260420T174740
CREATED:20240905T124642Z
LAST-MODIFIED:20240905T124642Z
UID:4233-1730880000-1730912400@marshview.nbed.ca
SUMMARY:Grade 7 Vaccinations
DESCRIPTION:Grade 7 Students will receive vaccinations on this day – parental permission is required. A School Connects message was sent home with further details.
URL:https://marshview.nbed.ca/event/grade-7-vaccinations/
END:VEVENT
BEGIN:VEVENT
DTSTART;TZID=America/Moncton:20241017T080000
DTEND;TZID=America/Moncton:20241017T170000
DTSTAMP:20260420T174740
CREATED:20240905T124524Z
LAST-MODIFIED:20240905T124524Z
UID:4231-1729152000-1729184400@marshview.nbed.ca
SUMMARY:Mt. A. Pops Concert
DESCRIPTION:Student will be attending the Mount Allison Pops Concert at Convocation Hall\, Mount Allison University. Students will be walking to Convocation Hall to listen to the concert which begins at 10:30 a.m. and will return to school following the concert.
URL:https://marshview.nbed.ca/event/mt-a-pops-concert/
END:VEVENT
BEGIN:VEVENT
DTSTART;TZID=America/Moncton:20241014T080000
DTEND;TZID=America/Moncton:20241018T170000
DTSTAMP:20260420T174740
CREATED:20240916T122840Z
LAST-MODIFIED:20240916T122840Z
UID:4265-1728892800-1729270800@marshview.nbed.ca
SUMMARY:Scholastic Book Fair
DESCRIPTION:Marshview Middle School Library will be hosting a Scholastic Book Fair. Further information about times to follow.
URL:https://marshview.nbed.ca/event/scholastic-book-fair/
END:VEVENT
BEGIN:VEVENT
DTSTART;TZID=America/Moncton:20241002T080000
DTEND;TZID=America/Moncton:20241002T170000
DTSTAMP:20260420T174740
CREATED:20240905T124402Z
LAST-MODIFIED:20240905T124402Z
UID:4229-1727856000-1727888400@marshview.nbed.ca
SUMMARY:School Pictures
DESCRIPTION:Student photos will be taken today
URL:https://marshview.nbed.ca/event/school-pictures/
END:VEVENT
BEGIN:VEVENT
DTSTART;TZID=America/Moncton:20240927T080000
DTEND;TZID=America/Moncton:20240927T170000
DTSTAMP:20260420T174740
CREATED:20240905T124258Z
LAST-MODIFIED:20240905T124258Z
UID:4226-1727424000-1727456400@marshview.nbed.ca
SUMMARY:Orange Shirt Day!!
DESCRIPTION:Students are encouraged to wear an Orange Shirt on this day
URL:https://marshview.nbed.ca/event/orange-shirt-day/
END:VEVENT
BEGIN:VEVENT
DTSTART;TZID=America/Moncton:20240923T080000
DTEND;TZID=America/Moncton:20240927T170000
DTSTAMP:20260420T174740
CREATED:20240905T124121Z
LAST-MODIFIED:20240905T124121Z
UID:4222-1727078400-1727456400@marshview.nbed.ca
SUMMARY:Truth and Reconciliation Week
DESCRIPTION:Truth and Reconciliation Week. Various events and activities held at the school.
URL:https://marshview.nbed.ca/event/truth-and-reconciliation-week/
END:VEVENT
BEGIN:VEVENT
DTSTART;TZID=America/Moncton:20240919T150000
DTEND;TZID=America/Moncton:20240919T160000
DTSTAMP:20260420T174740
CREATED:20240916T122554Z
LAST-MODIFIED:20240916T122554Z
UID:4260-1726758000-1726761600@marshview.nbed.ca
SUMMARY:Soccer Tryouts
DESCRIPTION:soccer tryouts afterschool
URL:https://marshview.nbed.ca/event/soccer-tryouts-2/
END:VEVENT
BEGIN:VEVENT
DTSTART;TZID=America/Moncton:20240918T180000
DTEND;TZID=America/Moncton:20240918T190000
DTSTAMP:20260420T174740
CREATED:20240916T122636Z
LAST-MODIFIED:20240916T122636Z
UID:4262-1726682400-1726686000@marshview.nbed.ca
SUMMARY:Meet the Teacher
DESCRIPTION:Come and Meet the Teachers at Marshview!!!
URL:https://marshview.nbed.ca/event/meet-the-teacher/
END:VEVENT
BEGIN:VEVENT
DTSTART;TZID=America/Moncton:20240917T150000
DTEND;TZID=America/Moncton:20240917T160000
DTSTAMP:20260420T174740
CREATED:20240916T122420Z
LAST-MODIFIED:20240916T122420Z
UID:4258-1726585200-1726588800@marshview.nbed.ca
SUMMARY:Soccer Tryouts
DESCRIPTION:Soccer Tryouts afterschool
URL:https://marshview.nbed.ca/event/soccer-tryouts/
END:VEVENT
END:VCALENDAR